BEGIN:VCALENDAR
VERSION:2.0
PRODID:-//Love of Paws Inc - ECPv6.15.20//NONSGML v1.0//EN
CALSCALE:GREGORIAN
METHOD:PUBLISH
X-WR-CALNAME:Love of Paws Inc
X-ORIGINAL-URL:https://www.kyloveofpaws.org
X-WR-CALDESC:Events for Love of Paws Inc
REFRESH-INTERVAL;VALUE=DURATION:PT1H
X-Robots-Tag:noindex
X-PUBLISHED-TTL:PT1H
BEGIN:VTIMEZONE
TZID:America/New_York
BEGIN:DAYLIGHT
TZOFFSETFROM:-0500
TZOFFSETTO:-0400
TZNAME:EDT
DTSTART:20180311T070000
END:DAYLIGHT
BEGIN:STANDARD
TZOFFSETFROM:-0400
TZOFFSETTO:-0500
TZNAME:EST
DTSTART:20181104T060000
END:STANDARD
BEGIN:DAYLIGHT
TZOFFSETFROM:-0500
TZOFFSETTO:-0400
TZNAME:EDT
DTSTART:20190310T070000
END:DAYLIGHT
BEGIN:STANDARD
TZOFFSETFROM:-0400
TZOFFSETTO:-0500
TZNAME:EST
DTSTART:20191103T060000
END:STANDARD
BEGIN:DAYLIGHT
TZOFFSETFROM:-0500
TZOFFSETTO:-0400
TZNAME:EDT
DTSTART:20200308T070000
END:DAYLIGHT
BEGIN:STANDARD
TZOFFSETFROM:-0400
TZOFFSETTO:-0500
TZNAME:EST
DTSTART:20201101T060000
END:STANDARD
END:VTIMEZONE
BEGIN:VEVENT
DTSTART;TZID=America/New_York:20190413T100000
DTEND;TZID=America/New_York:20190413T130000
DTSTAMP:20260423T152438
CREATED:20190106T161036Z
LAST-MODIFIED:20190315T215738Z
UID:243-1555149600-1555160400@www.kyloveofpaws.org
SUMMARY:Rabies & Chip Clinic
DESCRIPTION:Join us on Saturday\, April 13th for our Rabies & Chip Clinic from 10am to 1pm at Easy Walker Park\, Mount Sterling\, KY 40353.  Sponsored by the Love of Paws and Sheabel Clinic/Dr. Michelle Jude DVM. \n\nRabies canine/feline: $7 + Mini Exam\nK9 Bordatella: $10\nFeline Distemper: $15\nCanine Heartwork: $15\nDeworming: $5\nNail Trim: $10\nLifetime Microchip: $25\n\n*We are not responsible for any unleashed pets.
URL:https://www.kyloveofpaws.org/event/shot-clinic/
LOCATION:Easy Walker Park\, 1395 Osborne Rd\, Mount Sterling\, KY\, 40353\, United States
ATTACH;FMTTYPE=image/jpeg:https://www.kyloveofpaws.org/wp-content/uploads/2019/01/41325032_2104030436294013_2992006786854158336_n.jpg
END:VEVENT
BEGIN:VEVENT
DTSTART;TZID=America/New_York:20190401T183000
DTEND;TZID=America/New_York:20190401T193000
DTSTAMP:20260423T152438
CREATED:20190106T155820Z
LAST-MODIFIED:20190106T155820Z
UID:234-1554143400-1554147000@www.kyloveofpaws.org
SUMMARY:Board Meeting (Apr)
DESCRIPTION:Join us for our Love of Paws monthly board meeting to learn about upcoming events and how you can help animals need at the:\n\n\n\nMontgomery County Public Library\n328 North Maysville Street\, Mt Sterling\, KY 40353\n6:30pm
URL:https://www.kyloveofpaws.org/event/board-meeting-apr/
LOCATION:KY
END:VEVENT
BEGIN:VEVENT
DTSTART;TZID=America/New_York:20190304T183000
DTEND;TZID=America/New_York:20190304T193000
DTSTAMP:20260423T152438
CREATED:20190106T155742Z
LAST-MODIFIED:20190106T172018Z
UID:232-1551724200-1551727800@www.kyloveofpaws.org
SUMMARY:Board Meeting (Mar)
DESCRIPTION:Join us for our Love of Paws monthly board meeting to learn about upcoming events and how you can help animals need at the:\n\n\n\nMontgomery County Public Library\n328 North Maysville Street\, Mt Sterling\, KY 40353\n6:30pm
URL:https://www.kyloveofpaws.org/event/boar-meeting-mar/
LOCATION:KY
END:VEVENT
BEGIN:VEVENT
DTSTART;TZID=America/New_York:20190216T120000
DTEND;TZID=America/New_York:20190216T170000
DTSTAMP:20260423T152438
CREATED:20190106T160747Z
LAST-MODIFIED:20190106T160824Z
UID:238-1550318400-1550336400@www.kyloveofpaws.org
SUMMARY:6th Annual Love of Paws Chili Cook-off!
DESCRIPTION:The 6th Annual Love of Paws Chili Cook-off will be held at the Montgomery County Health and Civic Center on Saturday\, February 16 from noon until 5 p.m. \nA $5 donation is requested.  There are two Categories of Chili \n\nCommercial\nNon-Commercial\n\nA silent auction will also be available. \nProceeds will benefit homeless animals of Montgomery County and there will be a prize for the best chili! \nCelebrity Judges include \n\nMayor Al Botts\nJailer Eric Jones\nSheriff David Charles
URL:https://www.kyloveofpaws.org/event/6th-annual-love-of-paws-chili-cook-off/
LOCATION:Montgomery County Health & Civic Center\, 108 East Locust Street\, Mount Sterling\, KY\, 40353\, United States
ATTACH;FMTTYPE=image/jpeg:https://www.kyloveofpaws.org/wp-content/uploads/2019/01/49716272_302629660385959_7530451608451153920_n.jpg
END:VEVENT
BEGIN:VEVENT
DTSTART;TZID=America/New_York:20190204T183000
DTEND;TZID=America/New_York:20190204T193000
DTSTAMP:20260423T152438
CREATED:20190106T155558Z
LAST-MODIFIED:20190106T155558Z
UID:230-1549305000-1549308600@www.kyloveofpaws.org
SUMMARY:Board Meeting (Feb)
DESCRIPTION:Join us for our Love of Paws monthly board meeting to learn about upcoming events and how you can help animals need at the:\n\n\n\nMontgomery County Public Library\n328 North Maysville Street\, Mt Sterling\, KY 40353\n6:30pm
URL:https://www.kyloveofpaws.org/event/board-meeting-feb/
LOCATION:KY
END:VEVENT
BEGIN:VEVENT
DTSTART;TZID=America/New_York:20190107T183000
DTEND;TZID=America/New_York:20190107T193000
DTSTAMP:20260423T152438
CREATED:20180920T224122Z
LAST-MODIFIED:20190106T155419Z
UID:142-1546885800-1546889400@www.kyloveofpaws.org
SUMMARY:Board Meeting (Jan)
DESCRIPTION:Join us for our Love of Paws monthly board meeting to learn about upcoming events and how you can help animals need at the: \n\n\n\nMontgomery County Public Library328 North Maysville Street\, Mt Sterling\, KY 403536:30pm
URL:https://www.kyloveofpaws.org/event/board-meeting-oct/
LOCATION:KY
END:VEVENT
END:VCALENDAR